Workbook
Name _________kk29: #REF!
Name ________kk06: #REF!
Name ________kk29: #REF!
Name _______kk06: #REF!
Name _______kk29: #REF!
Name ______kk06: #REF!
Name ______kk29: #REF!
Name _____kk06: #REF!
Name _____kk29: #REF!
Name ____kk06: #REF!
Name ____kk29: #REF!
Name ___kk06: #REF!
Name ___kk06: #REF!
Name ___kk29: #REF!
Name ___kk29: #REF!
Name __kk06: #REF!
Name __kk06: #REF!
Name __kk29: #REF!
Name _kk06: #REF!
Name _kk29: #REF!
Name Avrg: #REF!
Name avrg1: #REF!
Name DaihyoFurigana: #REF!
Name DaihyoJyusho: #REF!
Name DaihyoShimei: #REF!
Name DaihyoShokumei: #REF!
Name DaihyoYubin: #REF!
Name houjin: #REF!
Name HoujinShokatsu: #REF!
Name HoujinSyubetsu: #REF!
Name HoujinSyubetu: #REF!
Name JigyoFax: #REF!
Name jigyoFurigana: #REF!
Name JigyoMeisyo: #REF!
Name JigyoShozai: #REF!
Name JigyoShozaiKana: #REF!
Name JigyosyoFurigana: #REF!
Name JigyosyoMei: #REF!
Name JigyosyoSyozai: #REF!
Name JigyosyoYubin: #REF!
Name JigyoTel: #REF!
Name jigyoumeishou: #REF!
Name JigyoYubin: #REF!
Name jiritu: #REF!
Name kanagawaken: #REF!
Name KanriJyusyo: #REF!
Name KanriJyusyoKana: #REF!
Name KanriShimei: #REF!
Name KanriYubin: #REF!
Name kawasaki: #REF!
Name KenmuJigyoMei: #REF!
Name KenmuJikan: #REF!
Name KenmuShokushu: #REF!
Name KenmuUmu: #REF!
Name KK_03: #REF!
Name kk_04: #REF!
Name KK_06: #REF!
Name kk_07: #REF!
Name ‐㏍08: #REF!
Name KK2_3: #REF!

Sheet 勤務形態一覧（特定相談支援・障害児相談支援）
A1: 従業者の勤務の体制及び勤務形態一覧表 | AI1: サービス種別 | AK1: 特定相談支援・障害児相談支援
M2: 2024 | Q2: 年 | S2: 5 | U2: 月 | AI2: 事業所名 | AO2: シート2枚目の 記載例をご確認ください。
AI3: (1)記載する期間
AI4: (2)予定/実績の別
AG5: (3)事業所における常勤の従業者が勤務すべき時間数 | AK5: 時間/週 | AM5: 時間/月
A7: No. | B7: (4)職種 | C7: (5)勤務形態 | D7: (6)資格 | E7: (7)氏名 | F7: (8) | AK7: (9)勤務時間数合計 | AL7: (10)週平均の勤務時間数 | AM7: (11)兼務状況 （兼務先／兼務する職務の内容）等
F8: 第１週 | M8: 第２週 | T8: 第３週 | AA8: 第４週 | AH8: 第５週
B9: ※選択肢にない職種については直接入力してください | F9: =DATE($M$2,$S$2,1) -> 45413 | G9: =DATE($M$2,$S$2,2) -> 45414 | H9: =DATE($M$2,$S$2,3) -> 45415 | I9: =DATE($M$2,$S$2,4) -> 45416 | J9: =DATE($M$2,$S$2,5) -> 45417 | K9: =DATE($M$2,$S$2,6) -> 45418 | L9: =DATE($M$2,$S$2,7) -> 45419 | M9: =DATE($M$2,$S$2,8) -> 45420 | N9: =DATE($M$2,$S$2,9) -> 45421 | O9: =DATE($M$2,$S$2,10) -> 45422 | P9: =DATE($M$2,$S$2,11) -> 45423 | Q9: =DATE($M$2,$S$2,12) -> 45424 | R9: =DATE($M$2,$S$2,13) -> 45425 | S9: =DATE($M$2,$S$2,14) -> 45426 | T9: =DATE($M$2,$S$2,15) -> 45427 | U9: =DATE($M$2,$S$2,16) -> 45428 | V9: =DATE($M$2,$S$2,17) -> 45429 | W9: =DATE($M$2,$S$2,18) -> 45430 | X9: =DATE($M$2,$S$2,19) -> 45431 | Y9: =DATE($M$2,$S$2,20) -> 45432 | Z9: =DATE($M$2,$S$2,21) -> 45433 | AA9: =DATE($M$2,$S$2,22) -> 45434 | AB9: =DATE($M$2,$S$2,23) -> 45435 | AC9: =DATE($M$2,$S$2,24) -> 45436 | AD9: =DATE($M$2,$S$2,25) -> 45437 | AE9: =DATE($M$2,$S$2,26) -> 45438 | AF9: =DATE($M$2,$S$2,27) -> 45439 | AG9: =DATE($M$2,$S$2,28) -> 45440 | AH9: =IF(DAY(EOMONTH(F9,0))<29,"",DATE($M$2,$S$2,29)) -> 45441 | AI9: =IF(DAY(EOMONTH(F9,0))<30,"",DATE($M$2,$S$2,30)) -> 45442 | AJ9: =IF(DAY(EOMONTH(F9,0))<31,"",DATE($M$2,$S$2,31)) -> 45443
F10: =DATE($M$2,$S$2,1) -> 45413 | G10: =DATE($M$2,$S$2,2) -> 45414 | H10: =DATE($M$2,$S$2,3) -> 45415 | I10: =DATE($M$2,$S$2,4) -> 45416 | J10: =DATE($M$2,$S$2,5) -> 45417 | K10: =DATE($M$2,$S$2,6) -> 45418 | L10: =DATE($M$2,$S$2,7) -> 45419 | M10: =DATE($M$2,$S$2,8) -> 45420 | N10: =DATE($M$2,$S$2,9) -> 45421 | O10: =DATE($M$2,$S$2,10) -> 45422 | P10: =DATE($M$2,$S$2,11) -> 45423 | Q10: =DATE($M$2,$S$2,12) -> 45424 | R10: =DATE($M$2,$S$2,13) -> 45425 | S10: =DATE($M$2,$S$2,14) -> 45426 | T10: =DATE($M$2,$S$2,15) -> 45427 | U10: =DATE($M$2,$S$2,16) -> 45428 | V10: =DATE($M$2,$S$2,17) -> 45429 | W10: =DATE($M$2,$S$2,18) -> 45430 | X10: =DATE($M$2,$S$2,19) -> 45431 | Y10: =DATE($M$2,$S$2,20) -> 45432 | Z10: =DATE($M$2,$S$2,21) -> 45433 | AA10: =DATE($M$2,$S$2,22) -> 45434 | AB10: =DATE($M$2,$S$2,23) -> 45435 | AC10: =DATE($M$2,$S$2,24) -> 45436 | AD10: =DATE($M$2,$S$2,25) -> 45437 | AE10: =DATE($M$2,$S$2,26) -> 45438 | AF10: =DATE($M$2,$S$2,27) -> 45439 | AG10: =DATE($M$2,$S$2,28) -> 45440 | AH10: =IF(DAY(EOMONTH(F10,0))<29,"",DATE($M$2,$S$2,29)) -> 45441 | AI10: =IF(DAY(EOMONTH(F10,0))<30,"",DATE($M$2,$S$2,30)) -> 45442 | AJ10: =IF(DAY(EOMONTH(F10,0))<31,"",DATE($M$2,$S$2,31)) -> 45443
A11: 1 | B11: 管理者 | C11: A | E11: A | AK11: =+SUM(F11:AJ11) -> 0 | AL11: =IF($AK$3="４週",AK11/4,AK11/(DAY(EOMONTH($F$9,0))/7)) -> 0
A12: 2 | B12: 相談支援専門員 | C12: B | E12: B | AK12: =+SUM(F12:AJ12) -> 0 | AL12: =IF($AK$3="４週",AK12/4,AK12/(DAY(EOMONTH($F$9,0))/7)) -> 0
A13: 3 | B13: 相談支援専門員 | C13: C | E13: C | AK13: =+SUM(F13:AJ13) -> 0 | AL13: =IF($AK$3="４週",AK13/4,AK13/(DAY(EOMONTH($F$9,0))/7)) -> 0
A14: 4 | B14: 相談支援員 | C14: D | E14: D | AK14: =+SUM(F14:AJ14) -> 0 | AL14: =IF($AK$3="４週",AK14/4,AK14/(DAY(EOMONTH($F$9,0))/7)) -> 0
A15: 5 | AK15: =+SUM(F15:AJ15) -> 0 | AL15: =IF($AK$3="４週",AK15/4,AK15/(DAY(EOMONTH($F$9,0))/7)) -> 0
A16: 6 | AK16: =+SUM(F16:AJ16) -> 0 | AL16: =IF($AK$3="４週",AK16/4,AK16/(DAY(EOMONTH($F$9,0))/7)) -> 0
A17: 7 | AK17: =+SUM(F17:AJ17) -> 0 | AL17: =IF($AK$3="４週",AK17/4,AK17/(DAY(EOMONTH($F$9,0))/7)) -> 0
A18: 8 | AK18: =+SUM(F18:AJ18) -> 0 | AL18: =IF($AK$3="４週",AK18/4,AK18/(DAY(EOMONTH($F$9,0))/7)) -> 0
A19: 9 | AK19: =+SUM(F19:AJ19) -> 0 | AL19: =IF($AK$3="４週",AK19/4,AK19/(DAY(EOMONTH($F$9,0))/7)) -> 0
A20: 10 | AK20: =+SUM(F20:AJ20) -> 0 | AL20: =IF($AK$3="４週",AK20/4,AK20/(DAY(EOMONTH($F$9,0))/7)) -> 0
A21: 11 | AK21: =+SUM(F21:AJ21) -> 0 | AL21: =IF($AK$3="４週",AK21/4,AK21/(DAY(EOMONTH($F$9,0))/7)) -> 0
A22: 12 | AK22: =+SUM(F22:AJ22) -> 0 | AL22: =IF($AK$3="４週",AK22/4,AK22/(DAY(EOMONTH($F$9,0))/7)) -> 0
A23: 13 | AK23: =+SUM(F23:AJ23) -> 0 | AL23: =IF($AK$3="４週",AK23/4,AK23/(DAY(EOMONTH($F$9,0))/7)) -> 0
A24: 14 | AK24: =+SUM(F24:AJ24) -> 0 | AL24: =IF($AK$3="４週",AK24/4,AK24/(DAY(EOMONTH($F$9,0))/7)) -> 0
A25: 15 | AK25: =+SUM(F25:AJ25) -> 0 | AL25: =IF($AK$3="４週",AK25/4,AK25/(DAY(EOMONTH($F$9,0))/7)) -> 0
A26: 16 | AK26: =+SUM(F26:AJ26) -> 0 | AL26: =IF($AK$3="４週",AK26/4,AK26/(DAY(EOMONTH($F$9,0))/7)) -> 0
... A30: 20 | AK30: =+SUM(F30:AJ30) -> 0 | AL30: =IF($AK$3="４週",AK30/4,AK30/(DAY(EOMONTH($F$9,0))/7)) -> 0
A31: 合計 | F31: =+SUM(F11:F30) -> 0 | G31: =+SUM(G11:G30) -> 0 | H31: =+SUM(H11:H30) -> 0 | I31: =+SUM(I11:I30) -> 0 | J31: =+SUM(J11:J30) -> 0 | K31: =+SUM(K11:K30) -> 0 | L31: =+SUM(L11:L30) -> 0 | M31: =+SUM(M11:M30) -> 0 | ... AJ31: =+SUM(AJ11:AJ30) -> 0 | AK31: =+SUM(F31:AJ31) -> 0 | AL31: =IF($AK$3="４週",AK31/4,AK31/(DAY(EOMONTH($F$9,0))/7)) -> 0
A32: サービス提供時間
A35: ＜前６か月の平均値＞※新規申請の場合は推定数を記載ください。
D36: =IF(MONTH($F$9)<7,MONTH($F$9)+6,MONTH($F$9)-6) -> 11 | E36: =IF(MONTH($F$9)<6,MONTH($F$9)+7,MONTH($F$9)-5) -> 12 | F36: =IF(MONTH($F$9)<5,MONTH($F$9)+8,MONTH($F$9)-4) -> 1 | I36: =IF(MONTH($F$9)<4,MONTH($F$9)+9,MONTH($F$9)-3) -> 2 | L36: =IF(MONTH($F$9)<3,MONTH($F$9)+10,MONTH($F$9)-2) -> 3 | O36: =IF(MONTH($F$9)<2,MONTH($F$9)+11,MONTH($F$9)-1) -> 4 | R36: 計 | V36: 平均利用者数 | Z36: 相談支援専門員の数の標準
A37: 障害者 | R37: =SUM(D37:Q37) -> 0 | V37: =ROUNDUP((R37+R38)/6,1) -> 0 | Z37: =ROUNDDOWN(V37/35,1) -> 0
A38: 障害児 | R38: =+SUM(D38:Q38) -> 0
A39: ＜人員基準に関する実人数集計＞
C40: =IF(VLOOKUP($AK$1,[1]選択肢!$A$1:$J$32,C45,FALSE)=0,"-",VLOOKUP($AK$1,[1]選択肢!$A$1:$J$32,C45,FALSE)) -> 管理者 | E40: =IF(VLOOKUP($AK$1,[1]選択肢!$A$1:$J$32,E45,FALSE)=0,"-",VLOOKUP($AK$1,[1]選択肢!$A$1:$J$32,E45,FALSE)) -> 相談支援専門員 | I40: =IF(VLOOKUP($AK$1,[1]選択肢!$A$1:$J$32,I45,FALSE)=0,"-",VLOOKUP($AK$1,[1]選択肢!$A$1:$J$32,I45,FALSE)) -> 相談支援員 | O40: =IF(VLOOKUP($AK$1,[1]選択肢!$A$1:$J$32,O45,FALSE)=0,"-",VLOOKUP($AK$1,[1]選択肢!$A$1:$J$32,O45,FALSE)) -> - | U40: =IF(VLOOKUP($AK$1,[1]選択肢!$A$1:$J$32,U45,FALSE)=0,"-",VLOOKUP($AK$1,[1]選択肢!$A$1:$J$32,U45,FALSE)) -> - | AA40: =IF(VLOOKUP($AK$1,[1]選択肢!$A$1:$J$32,AA45,FALSE)=0,"-",VLOOKUP($AK$1,[1]選択肢!$A$1:$J$32,AA45,FALSE)) -> - | AG40: =IF(VLOOKUP($AK$1,[1]選択肢!$A$1:$J$32,AG45,FALSE)=0,"-",VLOOKUP($AK$1,[1]選択肢!$A$1:$J$32,AG45,FALSE)) -> - | AL40: =IF(VLOOKUP($AK$1,[1]選択肢!$A$1:$J$32,AL45,FALSE)=0,"-",VLOOKUP($AK$1,[1]選択肢!$A$1:$J$32,AL45,FALSE)) -> -
C41: 専従 | D41: 兼務 | E41: 専従 | F41: 兼務 | I41: 専従 | L41: 兼務 | O41: 専従 | R41: 兼務 | U41: 専従 | X41: 兼務 | AA41: 専従 | AD41: 兼務 | AG41: 専従 | AJ41: 兼務 | AL41: 専従 | AM41: 兼務
B42: 常勤 | C42: =COUNTIFS($B$11:$B$30,C$40,$C$11:$C$30,"A",$E$11:$E$30,"*") -> 1 | D42: =COUNTIFS($B$11:$B$30,C$40,$C$11:$C$30,"B",$E$11:$E$30,"*") -> 0 | E42: =COUNTIFS($B$11:$B$30,E$40,$C$11:$C$30,"A",$E$11:$E$30,"*") -> 0 | F42: =COUNTIFS($B$11:$B$30,E$40,$C$11:$C$30,"B",$E$11:$E$30,"*") -> 1 | I42: =COUNTIFS($B$11:$B$30,I$40,$C$11:$C$30,"A",$E$11:$E$30,"*") -> 0 | L42: =COUNTIFS($B$11:$B$30,I$40,$C$11:$C$30,"B",$E$11:$E$30,"*") -> 0 | O42: =COUNTIFS($B$11:$B$30,O$40,$C$11:$C$30,"A",$E$11:$E$30,"*") -> 0 | R42: =COUNTIFS($B$11:$B$30,O$40,$C$11:$C$30,"B",$E$11:$E$30,"*") -> 0 | U42: =COUNTIFS($B$11:$B$30,U$40,$C$11:$C$30,"A",$E$11:$E$30,"*") -> 0 | X42: =COUNTIFS($B$11:$B$30,U$40,$C$11:$C$30,"B",$E$11:$E$30,"*") -> 0 | AA42: =COUNTIFS($B$11:$B$30,AA$40,$C$11:$C$30,"A",$E$11:$E$30,"*") -> 0 | AD42: =COUNTIFS($B$11:$B$30,AA$40,$C$11:$C$30,"B",$E$11:$E$30,"*") -> 0 | AG42: =COUNTIFS($B$11:$B$30,AG$40,$C$11:$C$30,"A",$E$11:$E$30,"*") -> 0 | AJ42: =COUNTIFS($B$11:$B$30,AG$40,$C$11:$C$30,"B",$E$11:$E$30,"*") -> 0 | AL42: =COUNTIFS($B$11:$B$30,AL$40,$C$11:$C$30,"A",$E$11:$E$30,"*") -> 0 | AM42: =COUNTIFS($B$11:$B$30,AL$40,$C$11:$C$30,"B",$E$11:$E$30,"*") -> 0
B43: 非常勤 | C43: =COUNTIFS($B$11:$B$30,C$40,$C$11:$C$30,"C",$E$11:$E$30,"*") -> 0 | D43: =COUNTIFS($B$11:$B$30,C$40,$C$11:$C$30,"D",$E$11:$E$30,"*") -> 0 | E43: =COUNTIFS($B$11:$B$30,E$40,$C$11:$C$30,"C",$E$11:$E$30,"*") -> 1 | F43: =COUNTIFS($B$11:$B$30,E$40,$C$11:$C$30,"D",$E$11:$E$30,"*") -> 0 | I43: =COUNTIFS($B$11:$B$30,I$40,$C$11:$C$30,"C",$E$11:$E$30,"*") -> 0 | L43: =COUNTIFS($B$11:$B$30,I$40,$C$11:$C$30,"D",$E$11:$E$30,"*") -> 1 | O43: =COUNTIFS($B$11:$B$30,O$40,$C$11:$C$30,"C",$E$11:$E$30,"*") -> 0 | R43: =COUNTIFS($B$11:$B$30,O$40,$C$11:$C$30,"D",$E$11:$E$30,"*") -> 0 | U43: =COUNTIFS($B$11:$B$30,U$40,$C$11:$C$30,"C",$E$11:$E$30,"*") -> 0 | X43: =COUNTIFS($B$11:$B$30,U$40,$C$11:$C$30,"D",$E$11:$E$30,"*") -> 0 | AA43: =COUNTIFS($B$11:$B$30,AA$40,$C$11:$C$30,"C",$E$11:$E$30,"*") -> 0 | AD43: =COUNTIFS($B$11:$B$30,AA$40,$C$11:$C$30,"D",$E$11:$E$30,"*") -> 0 | AG43: =COUNTIFS($B$11:$B$30,AG$40,$C$11:$C$30,"C",$E$11:$E$30,"*") -> 0 | AJ43: =COUNTIFS($B$11:$B$30,AG$40,$C$11:$C$30,"D",$E$11:$E$30,"*") -> 0 | AL43: =COUNTIFS($B$11:$B$30,AL$40,$C$11:$C$30,"C",$E$11:$E$30,"*") -> 0 | AM43: =COUNTIFS($B$11:$B$30,AL$40,$C$11:$C$30,"D",$E$11:$E$30,"*") -> 0
B44: 常勤換算数 | C44: =IF($AK$3="４週",SUMIFS($AK$11:$AK$30,$B$11:$B$30,C40)/4/$AH$5,IF($AK$3="歴月",SUMIFS($AK$11:$AK$30,$B$11:$B$30,C40)/$AL$5,"記載する期間を選択してください")) -> 記載する期間を選択してください | E44: =IF($AK$3="４週",SUMIFS($AK$11:$AK$30,$B$11:$B$30,E40)/4/$AH$5,IF($AK$3="歴月",SUMIFS($AK$11:$AK$30,$B$11:$B$30,E40)/$AL$5,"記載する期間を選択してください")) -> 記載する期間を選択してください | I44: =IF($AK$3="４週",SUMIFS($AK$11:$AK$30,$B$11:$B$30,I40)/4/$AH$5,IF($AK$3="歴月",SUMIFS($AK$11:$AK$30,$B$11:$B$30,I40)/$AL$5,"記載する期間を選択してください")) -> 記載する期間を選択してください | O44: =IF($AK$3="４週",SUMIFS($AK$11:$AK$30,$B$11:$B$30,O40)/4/$AH$5,IF($AK$3="歴月",SUMIFS($AK$11:$AK$30,$B$11:$B$30,O40)/$AL$5,"記載する期間を選択してください")) -> 記載する期間を選択してください | U44: =IF($AK$3="４週",SUMIFS($AK$11:$AK$30,$B$11:$B$30,U40)/4/$AH$5,IF($AK$3="歴月",SUMIFS($AK$11:$AK$30,$B$11:$B$30,U40)/$AL$5,"記載する期間を選択してください")) -> 記載する期間を選択してください | AA44: =IF($AK$3="４週",SUMIFS($AK$11:$AK$30,$B$11:$B$30,AA40)/4/$AH$5,IF($AK$3="歴月",SUMIFS($AK$11:$AK$30,$B$11:$B$30,AA40)/$AL$5,"記載する期間を選択してください")) -> 記載する期間を選択してください | AG44: =IF($AK$3="４週",SUMIFS($AK$11:$AK$30,$B$11:$B$30,AG40)/4/$AH$5,IF($AK$3="歴月",SUMIFS($AK$11:$AK$30,$B$11:$B$30,AG40)/$AL$5,"記載する期間を選択してください")) -> 記載する期間を選択してください | AL44: =IF($AK$3="４週",SUMIFS($AK$11:$AK$30,$B$11:$B$30,AL40)/4/$AH$5,IF($AK$3="歴月",SUMIFS($AK$11:$AK$30,$B$11:$B$30,AL40)/$AL$5,"記載する期間を選択してください")) -> 記載する期間を選択してください
C45: 2 | E45: 3 | I45: 4 | O45: 5 | U45: 6 | AA45: 7 | AG45: 8 | AL45: 9
A46: ・最初に「年月欄」「サービス種別」「事業所名」を入力してください。 | R46: 6 | X46: 7 | AD46: 8 | AJ46: 9
A47: (1) 「４週」・「暦月」のいずれかを選択してください。
A48: (2) 「予定」・「実績」のいずれかを選択してください。
A49: (3) 事業所における常勤の従業者が勤務すべき時間数を入力してください。
A50: (4) 従業者の職種を入力してください。
A51: 記入の順序は、職種ごとにまとめてください。
A52: (5) 従業者の勤務形態について、下記のうち該当する区分の記号を入力してください。
B53: 記号 | C53: 区分
B54: A | C54: 常勤で専従
B55: B | C55: 常勤で兼務
B56: C | C56: 非常勤で専従
B57: D | C57: 非常勤で兼務
B58: （注）常勤・非常勤の区分について
B59: 当該事業所における勤務時間が、当該事業所において定められている常勤の従業者が勤務すべき時間数に達していることをいいます。雇用の形態は考慮しません。
B60: （例えば、常勤者は週に40時間勤務することとされた事業所であれば、非正規雇用であっても、週40時間勤務する従業者は常勤扱いとなります。）
A61: (6) 従業者の保有する資格を入力してください。
A62: 保有資格を全て記入するのではなく、人員基準上、求められる資格等を入力してください。
A63: ※選択した資格及び研修に関して、必要に応じて、資格証又は研修修了証等の写しを添付資料として提出してください。
A64: (7) 従業者の氏名を記入してください。
A65: (8) 申請する事業に係る従業者（管理者を含む。）の1ヶ月分の勤務時間を入力してください。
A66: (9) 常勤の職員の休暇等については、その期間が暦年で１月を超えるものでない限り、常勤換算の計算上は勤務したものとみなすことができます。
B67: その場合、勤務時間欄には「休」と記入し、勤務時間の合計に含めてください（非常勤職員の休暇等は常勤換算の計算に含めることはできません）。
B68: ※指定基準の確認に際しては、４週分の入力で差し支えありません。
A69: (10) 従業者ごとに、合計勤務時間数を入力してください。
A70: ※ 入力することができる時間数は、当該事業所において常勤の従業者が勤務すべき勤務時間数を上限とします。
A71: (11) 従業者ごとに、週平均の勤務時間数を入力してください。
A72: (12) 申請する事業所以外の事業所・施設との兼務がある場合は、兼務先の事業所・施設の名称、兼務する職務の内容について記入してください。
A73: 同一事業所内の兼務についても兼務する職務の内容を記入してください。
A74: その他、特記事項欄としてもご活用ください。
A75: （13)本表には計算式を設定していますが、結果に誤りがないかご確認ください。
A76: （14) 必要項目を満たしていれば、各事業所で使用するシフト表等をもって代替書類として差し支えありません。

Sheet (記載例)勤務形態一覧
A1: 従業者の勤務の体制及び勤務形態一覧表 | AI1: サービス種別 | AK1: 特定相談支援・障害児相談支援
M2: 2026 | Q2: 年 | S2: 10 | U2: 月 | AI2: 事業所名 | AK2: 藤井寺相談支援事業所
AI3: (1)記載する期間 | AK3: ４週
AI4: (2)予定/実績の別 | AK4: 予定
AG5: (3)事業所における常勤の従業者が勤務すべき時間数 | AH5: 40 | AK5: 時間/週 | AL5: 160 | AM5: 時間/月
A7: No. | B7: (4)職種 | C7: (5)勤務形態 | D7: (6)資格 | E7: (7)氏名 | F7: (8) | AK7: (9)勤務時間数合計 | AL7: (10)週平均の勤務時間数 | AM7: (11)兼務状況 （兼務先／兼務する職務の内容）等
F8: 第１週 | M8: 第２週 | T8: 第３週 | AA8: 第４週 | AH8: 第５週
B9: ※選択肢にない職種については直接入力してください | F9: =DATE($M$2,$S$2,1) -> 46296 | G9: =DATE($M$2,$S$2,2) -> 46297 | H9: =DATE($M$2,$S$2,3) -> 46298 | I9: =DATE($M$2,$S$2,4) -> 46299 | J9: =DATE($M$2,$S$2,5) -> 46300 | K9: =DATE($M$2,$S$2,6) -> 46301 | L9: =DATE($M$2,$S$2,7) -> 46302 | M9: =DATE($M$2,$S$2,8) -> 46303 | N9: =DATE($M$2,$S$2,9) -> 46304 | O9: =DATE($M$2,$S$2,10) -> 46305 | P9: =DATE($M$2,$S$2,11) -> 46306 | Q9: =DATE($M$2,$S$2,12) -> 46307 | R9: =DATE($M$2,$S$2,13) -> 46308 | S9: =DATE($M$2,$S$2,14) -> 46309 | T9: =DATE($M$2,$S$2,15) -> 46310 | U9: =DATE($M$2,$S$2,16) -> 46311 | V9: =DATE($M$2,$S$2,17) -> 46312 | W9: =DATE($M$2,$S$2,18) -> 46313 | X9: =DATE($M$2,$S$2,19) -> 46314 | Y9: =DATE($M$2,$S$2,20) -> 46315 | Z9: =DATE($M$2,$S$2,21) -> 46316 | AA9: =DATE($M$2,$S$2,22) -> 46317 | AB9: =DATE($M$2,$S$2,23) -> 46318 | AC9: =DATE($M$2,$S$2,24) -> 46319 | AD9: =DATE($M$2,$S$2,25) -> 46320 | AE9: =DATE($M$2,$S$2,26) -> 46321 | AF9: =DATE($M$2,$S$2,27) -> 46322 | AG9: =DATE($M$2,$S$2,28) -> 46323 | AH9: =IF(DAY(EOMONTH(F9,0))<29,"",DATE($M$2,$S$2,29)) -> 46324 | AI9: =IF(DAY(EOMONTH(F9,0))<30,"",DATE($M$2,$S$2,30)) -> 46325 | AJ9: =IF(DAY(EOMONTH(F9,0))<31,"",DATE($M$2,$S$2,31)) -> 46326
F10: =DATE($M$2,$S$2,1) -> 46296 | G10: =DATE($M$2,$S$2,2) -> 46297 | H10: =DATE($M$2,$S$2,3) -> 46298 | I10: =DATE($M$2,$S$2,4) -> 46299 | J10: =DATE($M$2,$S$2,5) -> 46300 | K10: =DATE($M$2,$S$2,6) -> 46301 | L10: =DATE($M$2,$S$2,7) -> 46302 | M10: =DATE($M$2,$S$2,8) -> 46303 | N10: =DATE($M$2,$S$2,9) -> 46304 | O10: =DATE($M$2,$S$2,10) -> 46305 | P10: =DATE($M$2,$S$2,11) -> 46306 | Q10: =DATE($M$2,$S$2,12) -> 46307 | R10: =DATE($M$2,$S$2,13) -> 46308 | S10: =DATE($M$2,$S$2,14) -> 46309 | T10: =DATE($M$2,$S$2,15) -> 46310 | U10: =DATE($M$2,$S$2,16) -> 46311 | V10: =DATE($M$2,$S$2,17) -> 46312 | W10: =DATE($M$2,$S$2,18) -> 46313 | X10: =DATE($M$2,$S$2,19) -> 46314 | Y10: =DATE($M$2,$S$2,20) -> 46315 | Z10: =DATE($M$2,$S$2,21) -> 46316 | AA10: =DATE($M$2,$S$2,22) -> 46317 | AB10: =DATE($M$2,$S$2,23) -> 46318 | AC10: =DATE($M$2,$S$2,24) -> 46319 | AD10: =DATE($M$2,$S$2,25) -> 46320 | AE10: =DATE($M$2,$S$2,26) -> 46321 | AF10: =DATE($M$2,$S$2,27) -> 46322 | AG10: =DATE($M$2,$S$2,28) -> 46323 | AH10: =IF(DAY(EOMONTH(F10,0))<29,"",DATE($M$2,$S$2,29)) -> 46324 | AI10: =IF(DAY(EOMONTH(F10,0))<30,"",DATE($M$2,$S$2,30)) -> 46325 | AJ10: =IF(DAY(EOMONTH(F10,0))<31,"",DATE($M$2,$S$2,31)) -> 46326
A11: 1 | B11: 管理者 | C11: B | E11: 藤井寺 史郎 | F11: 8 | G11: 8 | J11: 8 | K11: 8 | L11: 8 | M11: 8 | N11: 8 | Q11: 8 | R11: 8 | S11: 8 | T11: 8 | U11: 8 | X11: 8 | Y11: 8 | Z11: 8 | AA11: 8 | AB11: 8 | AE11: 8 | AF11: 8 | AG11: 8 | AH11: 8 | AI11: 8 | AK11: =+SUM(F11:AJ11) -> 176 | AL11: =IF($AK$3="４週",AK11/4,AK11/(DAY(EOMONTH($F$9,0))/7)) -> 44 | AM11: 藤井寺市居宅介護事業所
A12: 2 | B12: 相談支援専門員 | C12: A | E12: 藤井寺 花子 | F12: 8 | G12: 8 | J12: 8 | K12: 8 | L12: 8 | M12: 8 | N12: 8 | Q12: 8 | R12: 8 | S12: 8 | T12: 8 | U12: 8 | X12: 8 | Y12: 8 | Z12: 8 | AA12: 8 | AB12: 8 | AE12: 8 | AF12: 8 | AG12: 8 | AH12: 8 | AI12: 8 | AK12: =+SUM(F12:AJ12) -> 176 | AL12: =IF($AK$3="４週",AK12/4,AK12/(DAY(EOMONTH($F$9,0))/7)) -> 44
A13: 3 | B13: 相談支援員 | C13: C | D13: 社会福祉士 | E13: 藤井寺 太郎 | F13: 8 | G13: 8 | J13: 8 | K13: 8 | L13: 8 | M13: 8 | N13: 8 | Q13: 8 | R13: 8 | S13: 8 | T13: 8 | U13: 8 | X13: 8 | Y13: 8 | Z13: 8 | AA13: 8 | AB13: 8 | AE13: 8 | AF13: 8 | AG13: 8 | AH13: 8 | AI13: 8 | AK13: =+SUM(F13:AJ13) -> 176 | AL13: =IF($AK$3="４週",AK13/4,AK13/(DAY(EOMONTH($F$9,0))/7)) -> 44
A14: 4 | AK14: =+SUM(F14:AJ14) -> 0 | AL14: =IF($AK$3="４週",AK14/4,AK14/(DAY(EOMONTH($F$9,0))/7)) -> 0
A15: 5 | AK15: =+SUM(F15:AJ15) -> 0 | AL15: =IF($AK$3="４週",AK15/4,AK15/(DAY(EOMONTH($F$9,0))/7)) -> 0
A16: 6 | AK16: =+SUM(F16:AJ16) -> 0 | AL16: =IF($AK$3="４週",AK16/4,AK16/(DAY(EOMONTH($F$9,0))/7)) -> 0
A17: 7 | AK17: =+SUM(F17:AJ17) -> 0 | AL17: =IF($AK$3="４週",AK17/4,AK17/(DAY(EOMONTH($F$9,0))/7)) -> 0
A18: 8 | AK18: =+SUM(F18:AJ18) -> 0 | AL18: =IF($AK$3="４週",AK18/4,AK18/(DAY(EOMONTH($F$9,0))/7)) -> 0
A19: 9 | AK19: =+SUM(F19:AJ19) -> 0 | AL19: =IF($AK$3="４週",AK19/4,AK19/(DAY(EOMONTH($F$9,0))/7)) -> 0
A20: 10 | AK20: =+SUM(F20:AJ20) -> 0 | AL20: =IF($AK$3="４週",AK20/4,AK20/(DAY(EOMONTH($F$9,0))/7)) -> 0
A21: 11 | AK21: =+SUM(F21:AJ21) -> 0 | AL21: =IF($AK$3="４週",AK21/4,AK21/(DAY(EOMONTH($F$9,0))/7)) -> 0
A22: 12 | AK22: =+SUM(F22:AJ22) -> 0 | AL22: =IF($AK$3="４週",AK22/4,AK22/(DAY(EOMONTH($F$9,0))/7)) -> 0
A23: 13 | AK23: =+SUM(F23:AJ23) -> 0 | AL23: =IF($AK$3="４週",AK23/4,AK23/(DAY(EOMONTH($F$9,0))/7)) -> 0
A24: 14 | AK24: =+SUM(F24:AJ24) -> 0 | AL24: =IF($AK$3="４週",AK24/4,AK24/(DAY(EOMONTH($F$9,0))/7)) -> 0
A25: 15 | AK25: =+SUM(F25:AJ25) -> 0 | AL25: =IF($AK$3="４週",AK25/4,AK25/(DAY(EOMONTH($F$9,0))/7)) -> 0
... A30: 20 | AK30: =+SUM(F30:AJ30) -> 0 | AL30: =IF($AK$3="４週",AK30/4,AK30/(DAY(EOMONTH($F$9,0))/7)) -> 0
A31: 合計 | F31: =+SUM(F11:F30) -> 24 | G31: =+SUM(G11:G30) -> 24 | H31: =+SUM(H11:H30) -> 0 | I31: =+SUM(I11:I30) -> 0 | J31: =+SUM(J11:J30) -> 24 | K31: =+SUM(K11:K30) -> 24 | L31: =+SUM(L11:L30) -> 24 | M31: =+SUM(M11:M30) -> 24 | ... AJ31: =+SUM(AJ11:AJ30) -> 0 | AK31: =+SUM(F31:AJ31) -> 528 | AL31: =IF($AK$3="４週",AK31/4,AK31/(DAY(EOMONTH($F$9,0))/7)) -> 132
A32: サービス提供時間 | H32: 8 | I32: 8 | J32: 8 | K32: 8 | L32: 8 | O32: 8 | P32: 8 | Q32: 8 | R32: 8 | S32: 8 | V32: 8 | W32: 8 | X32: 8 | Y32: 8 | Z32: 8 | AC32: 8 | AD32: 8 | AE32: 8 | AF32: 8 | AG32: 8 | AJ32: 8
A35: ＜前６か月の平均値＞※新規申請の場合は推定数を記載ください。
D36: =IF(MONTH($F$9)<7,MONTH($F$9)+6,MONTH($F$9)-6) -> 4 | E36: =IF(MONTH($F$9)<6,MONTH($F$9)+7,MONTH($F$9)-5) -> 5 | F36: =IF(MONTH($F$9)<5,MONTH($F$9)+8,MONTH($F$9)-4) -> 6 | I36: =IF(MONTH($F$9)<4,MONTH($F$9)+9,MONTH($F$9)-3) -> 7 | L36: =IF(MONTH($F$9)<3,MONTH($F$9)+10,MONTH($F$9)-2) -> 8 | O36: =IF(MONTH($F$9)<2,MONTH($F$9)+11,MONTH($F$9)-1) -> 9 | R36: 計 | V36: 平均利用者数 | Z36: 相談支援専門員の数の標準
A37: 障害者 | D37: 85 | E37: 86 | F37: 86 | I37: 86 | L37: 88 | O37: 90 | R37: =SUM(D37:Q37) -> 521 | V37: =ROUNDUP((R37+R38)/6,1) -> 106.7 | Z37: =ROUNDDOWN(V37/35,1) -> 3
A38: 障害児 | D38: 20 | E38: 21 | F38: 21 | I38: 21 | L38: 19 | O38: 17 | R38: =+SUM(D38:Q38) -> 119
A39: ＜人員基準に関する実人数集計＞
C40: =IF(VLOOKUP($AK$1,[1]選択肢!$A$1:$J$32,C45,FALSE)=0,"-",VLOOKUP($AK$1,[1]選択肢!$A$1:$J$32,C45,FALSE)) -> 管理者 | E40: =IF(VLOOKUP($AK$1,[1]選択肢!$A$1:$J$32,E45,FALSE)=0,"-",VLOOKUP($AK$1,[1]選択肢!$A$1:$J$32,E45,FALSE)) -> 相談支援専門員 | I40: =IF(VLOOKUP($AK$1,[1]選択肢!$A$1:$J$32,I45,FALSE)=0,"-",VLOOKUP($AK$1,[1]選択肢!$A$1:$J$32,I45,FALSE)) -> 相談支援員 | O40: =IF(VLOOKUP($AK$1,[1]選択肢!$A$1:$J$32,O45,FALSE)=0,"-",VLOOKUP($AK$1,[1]選択肢!$A$1:$J$32,O45,FALSE)) -> - | U40: =IF(VLOOKUP($AK$1,[1]選択肢!$A$1:$J$32,U45,FALSE)=0,"-",VLOOKUP($AK$1,[1]選択肢!$A$1:$J$32,U45,FALSE)) -> - | AA40: =IF(VLOOKUP($AK$1,[1]選択肢!$A$1:$J$32,AA45,FALSE)=0,"-",VLOOKUP($AK$1,[1]選択肢!$A$1:$J$32,AA45,FALSE)) -> - | AG40: =IF(VLOOKUP($AK$1,[1]選択肢!$A$1:$J$32,AG45,FALSE)=0,"-",VLOOKUP($AK$1,[1]選択肢!$A$1:$J$32,AG45,FALSE)) -> - | AL40: =IF(VLOOKUP($AK$1,[1]選択肢!$A$1:$J$32,AL45,FALSE)=0,"-",VLOOKUP($AK$1,[1]選択肢!$A$1:$J$32,AL45,FALSE)) -> -
C41: 専従 | D41: 兼務 | E41: 専従 | F41: 兼務 | I41: 専従 | L41: 兼務 | O41: 専従 | R41: 兼務 | U41: 専従 | X41: 兼務 | AA41: 専従 | AD41: 兼務 | AG41: 専従 | AJ41: 兼務 | AL41: 専従 | AM41: 兼務
B42: 常勤 | C42: =COUNTIFS($B$11:$B$30,C$40,$C$11:$C$30,"A",$E$11:$E$30,"*") -> 0 | D42: =COUNTIFS($B$11:$B$30,C$40,$C$11:$C$30,"B",$E$11:$E$30,"*") -> 1 | E42: =COUNTIFS($B$11:$B$30,E$40,$C$11:$C$30,"A",$E$11:$E$30,"*") -> 1 | F42: =COUNTIFS($B$11:$B$30,E$40,$C$11:$C$30,"B",$E$11:$E$30,"*") -> 0 | I42: =COUNTIFS($B$11:$B$30,I$40,$C$11:$C$30,"A",$E$11:$E$30,"*") -> 0 | L42: =COUNTIFS($B$11:$B$30,I$40,$C$11:$C$30,"B",$E$11:$E$30,"*") -> 0 | O42: =COUNTIFS($B$11:$B$30,O$40,$C$11:$C$30,"A",$E$11:$E$30,"*") -> 0 | R42: =COUNTIFS($B$11:$B$30,O$40,$C$11:$C$30,"B",$E$11:$E$30,"*") -> 0 | U42: =COUNTIFS($B$11:$B$30,U$40,$C$11:$C$30,"A",$E$11:$E$30,"*") -> 0 | X42: =COUNTIFS($B$11:$B$30,U$40,$C$11:$C$30,"B",$E$11:$E$30,"*") -> 0 | AA42: =COUNTIFS($B$11:$B$30,AA$40,$C$11:$C$30,"A",$E$11:$E$30,"*") -> 0 | AD42: =COUNTIFS($B$11:$B$30,AA$40,$C$11:$C$30,"B",$E$11:$E$30,"*") -> 0 | AG42: =COUNTIFS($B$11:$B$30,AG$40,$C$11:$C$30,"A",$E$11:$E$30,"*") -> 0 | AJ42: =COUNTIFS($B$11:$B$30,AG$40,$C$11:$C$30,"B",$E$11:$E$30,"*") -> 0 | AL42: =COUNTIFS($B$11:$B$30,AL$40,$C$11:$C$30,"A",$E$11:$E$30,"*") -> 0 | AM42: =COUNTIFS($B$11:$B$30,AL$40,$C$11:$C$30,"B",$E$11:$E$30,"*") -> 0
B43: 非常勤 | C43: =COUNTIFS($B$11:$B$30,C$40,$C$11:$C$30,"C",$E$11:$E$30,"*") -> 0 | D43: =COUNTIFS($B$11:$B$30,C$40,$C$11:$C$30,"D",$E$11:$E$30,"*") -> 0 | E43: =COUNTIFS($B$11:$B$30,E$40,$C$11:$C$30,"C",$E$11:$E$30,"*") -> 0 | F43: =COUNTIFS($B$11:$B$30,E$40,$C$11:$C$30,"D",$E$11:$E$30,"*") -> 0 | I43: =COUNTIFS($B$11:$B$30,I$40,$C$11:$C$30,"C",$E$11:$E$30,"*") -> 1 | L43: =COUNTIFS($B$11:$B$30,I$40,$C$11:$C$30,"D",$E$11:$E$30,"*") -> 0 | O43: =COUNTIFS($B$11:$B$30,O$40,$C$11:$C$30,"C",$E$11:$E$30,"*") -> 0 | R43: =COUNTIFS($B$11:$B$30,O$40,$C$11:$C$30,"D",$E$11:$E$30,"*") -> 0 | U43: =COUNTIFS($B$11:$B$30,U$40,$C$11:$C$30,"C",$E$11:$E$30,"*") -> 0 | X43: =COUNTIFS($B$11:$B$30,U$40,$C$11:$C$30,"D",$E$11:$E$30,"*") -> 0 | AA43: =COUNTIFS($B$11:$B$30,AA$40,$C$11:$C$30,"C",$E$11:$E$30,"*") -> 0 | AD43: =COUNTIFS($B$11:$B$30,AA$40,$C$11:$C$30,"D",$E$11:$E$30,"*") -> 0 | AG43: =COUNTIFS($B$11:$B$30,AG$40,$C$11:$C$30,"C",$E$11:$E$30,"*") -> 0 | AJ43: =COUNTIFS($B$11:$B$30,AG$40,$C$11:$C$30,"D",$E$11:$E$30,"*") -> 0 | AL43: =COUNTIFS($B$11:$B$30,AL$40,$C$11:$C$30,"C",$E$11:$E$30,"*") -> 0 | AM43: =COUNTIFS($B$11:$B$30,AL$40,$C$11:$C$30,"D",$E$11:$E$30,"*") -> 0
B44: 常勤換算数 | C44: =IF($AK$3="４週",SUMIFS($AK$11:$AK$30,$B$11:$B$30,C40)/4/$AH$5,IF($AK$3="歴月",SUMIFS($AK$11:$AK$30,$B$11:$B$30,C40)/$AL$5,"記載する期間を選択してください")) -> 1.1 | E44: =IF($AK$3="４週",SUMIFS($AK$11:$AK$30,$B$11:$B$30,E40)/4/$AH$5,IF($AK$3="歴月",SUMIFS($AK$11:$AK$30,$B$11:$B$30,E40)/$AL$5,"記載する期間を選択してください")) -> 1.1 | I44: =IF($AK$3="４週",SUMIFS($AK$11:$AK$30,$B$11:$B$30,I40)/4/$AH$5,IF($AK$3="歴月",SUMIFS($AK$11:$AK$30,$B$11:$B$30,I40)/$AL$5,"記載する期間を選択してください")) -> 1.1 | O44: =IF($AK$3="４週",SUMIFS($AK$11:$AK$30,$B$11:$B$30,O40)/4/$AH$5,IF($AK$3="歴月",SUMIFS($AK$11:$AK$30,$B$11:$B$30,O40)/$AL$5,"記載する期間を選択してください")) -> 0 | U44: =IF($AK$3="４週",SUMIFS($AK$11:$AK$30,$B$11:$B$30,U40)/4/$AH$5,IF($AK$3="歴月",SUMIFS($AK$11:$AK$30,$B$11:$B$30,U40)/$AL$5,"記載する期間を選択してください")) -> 0 | AA44: =IF($AK$3="４週",SUMIFS($AK$11:$AK$30,$B$11:$B$30,AA40)/4/$AH$5,IF($AK$3="歴月",SUMIFS($AK$11:$AK$30,$B$11:$B$30,AA40)/$AL$5,"記載する期間を選択してください")) -> 0 | AG44: =IF($AK$3="４週",SUMIFS($AK$11:$AK$30,$B$11:$B$30,AG40)/4/$AH$5,IF($AK$3="歴月",SUMIFS($AK$11:$AK$30,$B$11:$B$30,AG40)/$AL$5,"記載する期間を選択してください")) -> 0 | AL44: =IF($AK$3="４週",SUMIFS($AK$11:$AK$30,$B$11:$B$30,AL40)/4/$AH$5,IF($AK$3="歴月",SUMIFS($AK$11:$AK$30,$B$11:$B$30,AL40)/$AL$5,"記載する期間を選択してください")) -> 0
C45: 2 | E45: 3 | I45: 4 | O45: 5 | U45: 6 | AA45: 7 | AG45: 8 | AL45: 9
A46: ・最初に「年月欄」「サービス種別」「事業所名」を入力してください。 | R46: 6 | X46: 7 | AD46: 8 | AJ46: 9
A47: (1) 「４週」・「暦月」のいずれかを選択してください。
A48: (2) 「予定」・「実績」のいずれかを選択してください。
A49: (3) 事業所における常勤の従業者が勤務すべき時間数を入力してください。
A50: (4) 従業者の職種を入力してください。
A51: 記入の順序は、職種ごとにまとめてください。
A52: (5) 従業者の勤務形態について、下記のうち該当する区分の記号を入力してください。
B53: 記号 | C53: 区分
B54: A | C54: 常勤で専従
B55: B | C55: 常勤で兼務
B56: C | C56: 非常勤で専従
B57: D | C57: 非常勤で兼務
B58: （注）常勤・非常勤の区分について
B59: 当該事業所における勤務時間が、当該事業所において定められている常勤の従業者が勤務すべき時間数に達していることをいいます。雇用の形態は考慮しません。
B60: （例えば、常勤者は週に40時間勤務することとされた事業所であれば、非正規雇用であっても、週40時間勤務する従業者は常勤扱いとなります。）
A61: (6) 従業者の保有する資格を入力してください。
A62: 保有資格を全て記入するのではなく、人員基準上、求められる資格等を入力してください。
A63: ※選択した資格及び研修に関して、必要に応じて、資格証又は研修修了証等の写しを添付資料として提出してください。
A64: (7) 従業者の氏名を記入してください。
A65: (8) 申請する事業に係る従業者（管理者を含む。）の1ヶ月分の勤務時間を入力してください。
A66: (9) 常勤の職員の休暇等については、その期間が暦年で１月を超えるものでない限り、常勤換算の計算上は勤務したものとみなすことができます。
B67: その場合、勤務時間欄には「休」と記入し、勤務時間の合計に含めてください（非常勤職員の休暇等は常勤換算の計算に含めることはできません）。
B68: ※指定基準の確認に際しては、４週分の入力で差し支えありません。
A69: (10) 従業者ごとに、合計勤務時間数を入力してください。
A70: ※ 入力することができる時間数は、当該事業所において常勤の従業者が勤務すべき勤務時間数を上限とします。
A71: (11) 従業者ごとに、週平均の勤務時間数を入力してください。
A72: (12) 申請する事業所以外の事業所・施設との兼務がある場合は、兼務先の事業所・施設の名称、兼務する職務の内容について記入してください。
A73: 同一事業所内の兼務についても兼務する職務の内容を記入してください。
A74: その他、特記事項欄としてもご活用ください。
A75: （13)本表には計算式を設定していますが、結果に誤りがないかご確認ください。
A76: （14) 必要項目を満たしていれば、各事業所で使用するシフト表等をもって代替書類として差し支えありません。
